BEGIN:VCALENDAR
VERSION:2.0
PRODID:-//193.239.44.119//NONSGML kigkonsult.se iCalcreator 2.20//
CALSCALE:GREGORIAN
METHOD:PUBLISH
X-WR-TIMEZONE:Europe/Warsaw
BEGIN:VEVENT
UID:event276@Parafia Rzymskokatolicka Najświętszego Serca Jezusowego w Łęcz
 u - Salezjanie
DTSTAMP:20260419T203431Z
CATEGORIES:Msza Święta
DESCRIPTION:+ Janina i Czesław Rakoczy oraz zmarłe rodzeństwo\nKategoria: M
 sza Święta\nLink: https://lecze-salezjanie.pl/index.php?option=com_jem&vie
 w=event&id=276:janina-i-czeslaw-rakoczy-oraz-zmarle-rodzenstwo\n
DTSTART;TZID=Europe/Warsaw:20220731T120000
DTEND;TZID=Europe/Warsaw:20220731T120000
LOCATION:Kościół Najświętszego Serca Jezusowego w Łęczu\,Łęcze 48\,Łęcze
SUMMARY:+ Janina i Czesław Rakoczy oraz zmarłe rodzeństwo
URL:https://lecze-salezjanie.pl/index.php?option=com_jem&view=event&id=276:
 janina-i-czeslaw-rakoczy-oraz-zmarle-rodzenstwo
END:VEVENT
END:VCALENDAR