BEGIN:VCALENDAR
VERSION:2.0
PRODID:-//193.239.44.119//NONSGML kigkonsult.se iCalcreator 2.20//
CALSCALE:GREGORIAN
METHOD:PUBLISH
X-WR-TIMEZONE:Europe/Warsaw
BEGIN:VEVENT
UID:event27@Parafia Rzymskokatolicka Najświętszego Serca Jezusowego w Łęczu
  - Salezjanie
DTSTAMP:20260420T065545Z
CATEGORIES:Msza Święta
DESCRIPTION:O Boże Błogosławieństwo dla Arkadiusza Rygały z okazji imienin
 \nKategoria: Msza Święta\nLink: https://lecze-salezjanie.pl/index.php?opti
 on=com_jem&view=event&id=27:o-boze-blogoslawienstwo-dla-arkadiusza-rygaly-
 z-okazji-imienin\n
DTSTART;TZID=Europe/Warsaw:20220108T180000
DTEND;TZID=Europe/Warsaw:20220108T180000
LOCATION:Kościół Najświętszego Serca Jezusowego w Łęczu\,Łęcze 48\,Łęcze
SUMMARY:O Boże Błogosławieństwo dla Arkadiusza Rygały z okazji imienin
URL:https://lecze-salezjanie.pl/index.php?option=com_jem&view=event&id=27:o
 -boze-blogoslawienstwo-dla-arkadiusza-rygaly-z-okazji-imienin
END:VEVENT
END:VCALENDAR