BEGIN:VCALENDAR
VERSION:2.0
PRODID:-//193.239.44.119//NONSGML kigkonsult.se iCalcreator 2.20//
CALSCALE:GREGORIAN
METHOD:PUBLISH
X-WR-TIMEZONE:Europe/Warsaw
BEGIN:VEVENT
UID:event281@Parafia Rzymskokatolicka Najświętszego Serca Jezusowego w Łęcz
 u - Salezjanie
DTSTAMP:20260419T184221Z
CATEGORIES:Msza Święta
DESCRIPTION:+ Helena Wdowiak - w 8 rocznicę śmierci\nKategoria: Msza Święta
 \nLink: https://lecze-salezjanie.pl/index.php?option=com_jem&view=event&id
 =281:helena-wdowiak-w-8-rocznice-smierci\n
DTSTART;TZID=Europe/Warsaw:20220828T090000
DTEND;TZID=Europe/Warsaw:20220828T090000
LOCATION:Kościół Najświętszego Serca Jezusowego w Łęczu\,Łęcze 48\,Łęcze
SUMMARY:+ Helena Wdowiak - w 8 rocznicę śmierci
URL:https://lecze-salezjanie.pl/index.php?option=com_jem&view=event&id=281:
 helena-wdowiak-w-8-rocznice-smierci
END:VEVENT
END:VCALENDAR