BEGIN:VCALENDAR
VERSION:2.0
PRODID:-//193.239.44.119//NONSGML kigkonsult.se iCalcreator 2.20//
CALSCALE:GREGORIAN
METHOD:PUBLISH
X-WR-TIMEZONE:Europe/Warsaw
BEGIN:VEVENT
UID:event282@Parafia Rzymskokatolicka Najświętszego Serca Jezusowego w Łęcz
 u - Salezjanie
DTSTAMP:20260419T184242Z
CATEGORIES:Msza Święta
DESCRIPTION:+ Czesław Gajc - w 1 rocznicę śmierci\nKategoria: Msza Święta\n
 Link: https://lecze-salezjanie.pl/index.php?option=com_jem&view=event&id=2
 82:czeslaw-gajc-w-1-rocznice-smierci\n
DTSTART;TZID=Europe/Warsaw:20220828T120000
DTEND;TZID=Europe/Warsaw:20220828T120000
LOCATION:Kościół Najświętszego Serca Jezusowego w Łęczu\,Łęcze 48\,Łęcze
SUMMARY:+ Czesław Gajc - w 1 rocznicę śmierci
URL:https://lecze-salezjanie.pl/index.php?option=com_jem&view=event&id=282:
 czeslaw-gajc-w-1-rocznice-smierci
END:VEVENT
END:VCALENDAR