BEGIN:VCALENDAR
VERSION:2.0
PRODID:-//193.239.44.119//NONSGML kigkonsult.se iCalcreator 2.20//
CALSCALE:GREGORIAN
METHOD:PUBLISH
X-WR-TIMEZONE:Europe/Warsaw
BEGIN:VEVENT
UID:event288@Parafia Rzymskokatolicka Najświętszego Serca Jezusowego w Łęcz
 u - Salezjanie
DTSTAMP:20260419T170010Z
CATEGORIES:Msza Święta
DESCRIPTION:+ Rozalia Lejmanowicz i zmarli z rodziny\nKategoria: Msza Święt
 a\nLink: https://lecze-salezjanie.pl/index.php?option=com_jem&view=event&i
 d=288:rozalia-lejmanowicz-i-zmarli-z-rodziny\n
DTSTART;TZID=Europe/Warsaw:20220904T090000
DTEND;TZID=Europe/Warsaw:20220904T090000
LOCATION:Kościół Najświętszego Serca Jezusowego w Łęczu\,Łęcze 48\,Łęcze
SUMMARY:+ Rozalia Lejmanowicz i zmarli z rodziny
URL:https://lecze-salezjanie.pl/index.php?option=com_jem&view=event&id=288:
 rozalia-lejmanowicz-i-zmarli-z-rodziny
END:VEVENT
END:VCALENDAR