BEGIN:VCALENDAR
VERSION:2.0
PRODID:-//193.239.44.119//NONSGML kigkonsult.se iCalcreator 2.20//
CALSCALE:GREGORIAN
METHOD:PUBLISH
X-WR-TIMEZONE:Europe/Warsaw
BEGIN:VEVENT
UID:event294@Parafia Rzymskokatolicka Najświętszego Serca Jezusowego w Łęcz
 u - Salezjanie
DTSTAMP:20260419T165555Z
CATEGORIES:Msza Święta
DESCRIPTION:+ Stanisław Kaczan - Msza święta Gregoriańska (9)\nKategoria: M
 sza Święta\nLink: https://lecze-salezjanie.pl/index.php?option=com_jem&vie
 w=event&id=294:stanislaw-kaczan-msza-swieta-gregorianska-9\n
DTSTART;TZID=Europe/Warsaw:20220909T180000
DTEND;TZID=Europe/Warsaw:20220909T180000
LOCATION:Kościół Najświętszego Serca Jezusowego w Łęczu\,Łęcze 48\,Łęcze
SUMMARY:+ Stanisław Kaczan - Msza święta Gregoriańska (9)
URL:https://lecze-salezjanie.pl/index.php?option=com_jem&view=event&id=294:
 stanislaw-kaczan-msza-swieta-gregorianska-9
END:VEVENT
END:VCALENDAR