BEGIN:VCALENDAR
VERSION:2.0
PRODID:-//193.239.44.119//NONSGML kigkonsult.se iCalcreator 2.20//
CALSCALE:GREGORIAN
METHOD:PUBLISH
X-WR-TIMEZONE:Europe/Warsaw
BEGIN:VEVENT
UID:event300@Parafia Rzymskokatolicka Najświętszego Serca Jezusowego w Łęcz
 u - Salezjanie
DTSTAMP:20260419T165755Z
CATEGORIES:Msza Święta
DESCRIPTION:+ Stanisław Kaczan - Msza święta Gregoriańska (15)\nKategoria: 
 Msza Święta\nLink: https://lecze-salezjanie.pl/index.php?option=com_jem&vi
 ew=event&id=300:stanislaw-kaczan-msza-swieta-gregorianska-15\n
DTSTART;TZID=Europe/Warsaw:20220915T170000
DTEND;TZID=Europe/Warsaw:20220915T170000
LOCATION:Kościół Maryi Wspomożycielki Wiernych w Suchaczu\,Kielecka 12B\,Su
 chacz
SUMMARY:+ Stanisław Kaczan - Msza święta Gregoriańska (15)
URL:https://lecze-salezjanie.pl/index.php?option=com_jem&view=event&id=300:
 stanislaw-kaczan-msza-swieta-gregorianska-15
END:VEVENT
END:VCALENDAR