BEGIN:VCALENDAR
VERSION:2.0
PRODID:-//193.239.44.119//NONSGML kigkonsult.se iCalcreator 2.20//
CALSCALE:GREGORIAN
METHOD:PUBLISH
X-WR-TIMEZONE:Europe/Warsaw
BEGIN:VEVENT
UID:event32@Parafia Rzymskokatolicka Najświętszego Serca Jezusowego w Łęczu
  - Salezjanie
DTSTAMP:20260420T065545Z
CATEGORIES:Msza Święta
DESCRIPTION:O Boże Błogosławieństwo\, zdrowie\, nawrócenie dla Bartka Andru
 kiewicza\nKategoria: Msza Święta\nLink: https://lecze-salezjanie.pl/index.
 php?option=com_jem&view=event&id=32:o-boze-blogoslawienstwo-zdrowie-nawroc
 enie-dla-bartka-andrukiewicza\n
DTSTART;TZID=Europe/Warsaw:20220111T180000
DTEND;TZID=Europe/Warsaw:20220111T180000
LOCATION:Kościół Najświętszego Serca Jezusowego w Łęczu\,Łęcze 48\,Łęcze
SUMMARY:O Boże Błogosławieństwo\, zdrowie\, nawrócenie dla Bartka Andrukiew
 icza
URL:https://lecze-salezjanie.pl/index.php?option=com_jem&view=event&id=32:o
 -boze-blogoslawienstwo-zdrowie-nawrocenie-dla-bartka-andrukiewicza
END:VEVENT
END:VCALENDAR