BEGIN:VCALENDAR
VERSION:2.0
PRODID:-//193.239.44.119//NONSGML kigkonsult.se iCalcreator 2.20//
CALSCALE:GREGORIAN
METHOD:PUBLISH
X-WR-TIMEZONE:Europe/Warsaw
BEGIN:VEVENT
UID:event338@Parafia Rzymskokatolicka Najświętszego Serca Jezusowego w Łęcz
 u - Salezjanie
DTSTAMP:20260419T151906Z
CATEGORIES:Msza Święta
DESCRIPTION:+ Stanisław Budnik - Msza święta Gregoriańska (30)\nKategoria: 
 Msza Święta\nLink: https://lecze-salezjanie.pl/index.php?option=com_jem&vi
 ew=event&id=338:stanislaw-budnik-msza-swieta-gregorianska-30\n
DTSTART;TZID=Europe/Warsaw:20221030T090000
DTEND;TZID=Europe/Warsaw:20221030T090000
LOCATION:Kościół Najświętszego Serca Jezusowego w Łęczu\,Łęcze 48\,Łęcze
SUMMARY:+ Stanisław Budnik - Msza święta Gregoriańska (30)
URL:https://lecze-salezjanie.pl/index.php?option=com_jem&view=event&id=338:
 stanislaw-budnik-msza-swieta-gregorianska-30
END:VEVENT
END:VCALENDAR