BEGIN:VCALENDAR
VERSION:2.0
PRODID:-//193.239.44.119//NONSGML kigkonsult.se iCalcreator 2.20//
CALSCALE:GREGORIAN
METHOD:PUBLISH
X-WR-TIMEZONE:Europe/Warsaw
BEGIN:VEVENT
UID:event340@Parafia Rzymskokatolicka Najświętszego Serca Jezusowego w Łęcz
 u - Salezjanie
DTSTAMP:20260419T115029Z
CATEGORIES:Msza Święta
DESCRIPTION:+ Hanna Kostiów\nKategoria: Msza Święta\nLink: https://lecze-sa
 lezjanie.pl/index.php?option=com_jem&view=event&id=340:hanna-kostiow\n
DTSTART;TZID=Europe/Warsaw:20221101T110000
DTEND;TZID=Europe/Warsaw:20221101T110000
LOCATION:Kościół Najświętszego Serca Jezusowego w Łęczu\,Łęcze 48\,Łęcze
SUMMARY:+ Hanna Kostiów
URL:https://lecze-salezjanie.pl/index.php?option=com_jem&view=event&id=340:
 hanna-kostiow
END:VEVENT
END:VCALENDAR