BEGIN:VCALENDAR
VERSION:2.0
PRODID:-//193.239.44.119//NONSGML kigkonsult.se iCalcreator 2.20//
CALSCALE:GREGORIAN
METHOD:PUBLISH
X-WR-TIMEZONE:Europe/Warsaw
BEGIN:VEVENT
UID:event352@Parafia Rzymskokatolicka Najświętszego Serca Jezusowego w Łęcz
 u - Salezjanie
DTSTAMP:20260420T065323Z
CATEGORIES:Msza Święta
DESCRIPTION:+ Maria Ciereszko - w 10 rocznicę śmierci\nKategoria: Msza Świę
 ta\nLink: https://lecze-salezjanie.pl/index.php?option=com_jem&view=event&
 id=352:maria-ciereszko-w-10-rocznice-smierci\n
DTSTART;TZID=Europe/Warsaw:20220104T170000
DTEND;TZID=Europe/Warsaw:20220104T170000
LOCATION:Kościół Maryi Wspomożycielki Wiernych w Suchaczu\,Kielecka 12B\,Su
 chacz
SUMMARY:+ Maria Ciereszko - w 10 rocznicę śmierci
URL:https://lecze-salezjanie.pl/index.php?option=com_jem&view=event&id=352:
 maria-ciereszko-w-10-rocznice-smierci
END:VEVENT
END:VCALENDAR