BEGIN:VCALENDAR
VERSION:2.0
PRODID:-//193.239.44.119//NONSGML kigkonsult.se iCalcreator 2.20//
CALSCALE:GREGORIAN
METHOD:PUBLISH
X-WR-TIMEZONE:Europe/Warsaw
BEGIN:VEVENT
UID:event353@Parafia Rzymskokatolicka Najświętszego Serca Jezusowego w Łęcz
 u - Salezjanie
DTSTAMP:20260420T065944Z
CATEGORIES:Msza Święta
DESCRIPTION:+ Iwona Święcicka - w 27 rocznicę śmierci oraz Franciszek\, Mar
 ianna i Leon\, Regina\nKategoria: Msza Święta\nLink: https://lecze-salezja
 nie.pl/index.php?option=com_jem&view=event&id=353:iwona-swiecicka-w-27-roc
 znice-smierci-oraz-franciszek-marianna-i-leon-regina\n
DTSTART;TZID=Europe/Warsaw:20220106T090000
DTEND;TZID=Europe/Warsaw:20220106T090000
LOCATION:Kościół Maryi Wspomożycielki Wiernych w Suchaczu\,Kielecka 12B\,Su
 chacz
SUMMARY:+ Iwona Święcicka - w 27 rocznicę śmierci oraz Franciszek\, Mariann
 a i Leon\, Regina
URL:https://lecze-salezjanie.pl/index.php?option=com_jem&view=event&id=353:
 iwona-swiecicka-w-27-rocznice-smierci-oraz-franciszek-marianna-i-leon-regi
 na
END:VEVENT
END:VCALENDAR