BEGIN:VCALENDAR
VERSION:2.0
PRODID:-//193.239.44.119//NONSGML kigkonsult.se iCalcreator 2.20//
CALSCALE:GREGORIAN
METHOD:PUBLISH
X-WR-TIMEZONE:Europe/Warsaw
BEGIN:VEVENT
UID:event357@Parafia Rzymskokatolicka Najświętszego Serca Jezusowego w Łęcz
 u - Salezjanie
DTSTAMP:20260420T065815Z
CATEGORIES:Msza Święta
DESCRIPTION:+ Irena Kotkowska - w 1 miesiąc po śmierci\nKategoria: Msza Świ
 ęta\nLink: https://lecze-salezjanie.pl/index.php?option=com_jem&view=event
 &id=357:irena-kotkowska-w-1-miesiac-po-smierci\n
DTSTART;TZID=Europe/Warsaw:20220109T090000
DTEND;TZID=Europe/Warsaw:20220109T090000
LOCATION:Kościół Maryi Wspomożycielki Wiernych w Suchaczu\,Kielecka 12B\,Su
 chacz
SUMMARY:+ Irena Kotkowska - w 1 miesiąc po śmierci
URL:https://lecze-salezjanie.pl/index.php?option=com_jem&view=event&id=357:
 irena-kotkowska-w-1-miesiac-po-smierci
END:VEVENT
END:VCALENDAR