BEGIN:VCALENDAR
VERSION:2.0
PRODID:-//193.239.44.119//NONSGML kigkonsult.se iCalcreator 2.20//
CALSCALE:GREGORIAN
METHOD:PUBLISH
X-WR-TIMEZONE:Europe/Warsaw
BEGIN:VEVENT
UID:event360@Parafia Rzymskokatolicka Najświętszego Serca Jezusowego w Łęcz
 u - Salezjanie
DTSTAMP:20260420T070525Z
CATEGORIES:Msza Święta
DESCRIPTION:O zdrowie\, Błogosławieństwo Boże i opiekę Matki Bożej dla Krys
 tyny Maciuńskiej\, Czesława Maciuńskiego i Daniela Rymsza\nKategoria: Msza
  Święta\nLink: https://lecze-salezjanie.pl/index.php?option=com_jem&view=e
 vent&id=360:o-zdrowie-blogoslawienstwo-boze-i-opieke-matki-bozej-dla-kryst
 yny-maciunskiej-czeslawa-maciunskiego-i-daniela-rymsza\n
DTSTART;TZID=Europe/Warsaw:20220111T170000
DTEND;TZID=Europe/Warsaw:20220111T170000
LOCATION:Kościół Maryi Wspomożycielki Wiernych w Suchaczu\,Kielecka 12B\,Su
 chacz
SUMMARY:O zdrowie\, Błogosławieństwo Boże i opiekę Matki Bożej dla Krystyny
  Maciuńskiej\, Czesława Maciuńskiego i Daniela Rymsza
URL:https://lecze-salezjanie.pl/index.php?option=com_jem&view=event&id=360:
 o-zdrowie-blogoslawienstwo-boze-i-opieke-matki-bozej-dla-krystyny-maciunsk
 iej-czeslawa-maciunskiego-i-daniela-rymsza
END:VEVENT
END:VCALENDAR