BEGIN:VCALENDAR
VERSION:2.0
PRODID:-//193.239.44.119//NONSGML kigkonsult.se iCalcreator 2.20//
CALSCALE:GREGORIAN
METHOD:PUBLISH
X-WR-TIMEZONE:Europe/Warsaw
BEGIN:VEVENT
UID:event362@Parafia Rzymskokatolicka Najświętszego Serca Jezusowego w Łęcz
 u - Salezjanie
DTSTAMP:20260420T065323Z
CATEGORIES:Msza Święta
DESCRIPTION:+ Nikola Stokłosińska - w 19 rocznicę śmierci\nKategoria: Msza 
 Święta\nLink: https://lecze-salezjanie.pl/index.php?option=com_jem&view=ev
 ent&id=362:nikola-stoklosinska-w-19-rocznice-smierci\n
DTSTART;TZID=Europe/Warsaw:20220116T090000
DTEND;TZID=Europe/Warsaw:20220116T090000
LOCATION:Kościół Maryi Wspomożycielki Wiernych w Suchaczu\,Kielecka 12B\,Su
 chacz
SUMMARY:+ Nikola Stokłosińska - w 19 rocznicę śmierci
URL:https://lecze-salezjanie.pl/index.php?option=com_jem&view=event&id=362:
 nikola-stoklosinska-w-19-rocznice-smierci
END:VEVENT
END:VCALENDAR