BEGIN:VCALENDAR
VERSION:2.0
PRODID:-//193.239.44.119//NONSGML kigkonsult.se iCalcreator 2.20//
CALSCALE:GREGORIAN
METHOD:PUBLISH
X-WR-TIMEZONE:Europe/Warsaw
BEGIN:VEVENT
UID:event363@Parafia Rzymskokatolicka Najświętszego Serca Jezusowego w Łęcz
 u - Salezjanie
DTSTAMP:20260420T065052Z
CATEGORIES:Msza Święta
DESCRIPTION:+ Andrzej Rakowski - w 3 rocznicę śmierci\nKategoria: Msza Świę
 ta\nLink: https://lecze-salezjanie.pl/index.php?option=com_jem&view=event&
 id=363:andrzej-rakowski-w-3-rocznice-smierci\n
DTSTART;TZID=Europe/Warsaw:20220116T103000
DTEND;TZID=Europe/Warsaw:20220116T103000
LOCATION:Kościół Maryi Wspomożycielki Wiernych w Suchaczu\,Kielecka 12B\,Su
 chacz
SUMMARY:+ Andrzej Rakowski - w 3 rocznicę śmierci
URL:https://lecze-salezjanie.pl/index.php?option=com_jem&view=event&id=363:
 andrzej-rakowski-w-3-rocznice-smierci
END:VEVENT
END:VCALENDAR