BEGIN:VCALENDAR
VERSION:2.0
PRODID:-//193.239.44.119//NONSGML kigkonsult.se iCalcreator 2.20//
CALSCALE:GREGORIAN
METHOD:PUBLISH
X-WR-TIMEZONE:Europe/Warsaw
BEGIN:VEVENT
UID:event364@Parafia Rzymskokatolicka Najświętszego Serca Jezusowego w Łęcz
 u - Salezjanie
DTSTAMP:20260420T070040Z
CATEGORIES:Msza Święta
DESCRIPTION:+ Szczepan\, Marianna\, Jan Dziechciarz oraz Zofia i Henryk Fil
 ip\nKategoria: Msza Święta\nLink: https://lecze-salezjanie.pl/index.php?op
 tion=com_jem&view=event&id=364:szczepan-marianna-jan-dziechciarz-oraz-zofi
 a-i-henryk-filip\n
DTSTART;TZID=Europe/Warsaw:20220116T120000
DTEND;TZID=Europe/Warsaw:20220116T120000
LOCATION:Świetlica Wiejska w Kamionku Wielkim\,Kamionek Wielki 5B\,Kamionek
  Wielki
SUMMARY:+ Szczepan\, Marianna\, Jan Dziechciarz oraz Zofia i Henryk Filip
URL:https://lecze-salezjanie.pl/index.php?option=com_jem&view=event&id=364:
 szczepan-marianna-jan-dziechciarz-oraz-zofia-i-henryk-filip
END:VEVENT
END:VCALENDAR