BEGIN:VCALENDAR
VERSION:2.0
PRODID:-//193.239.44.119//NONSGML kigkonsult.se iCalcreator 2.20//
CALSCALE:GREGORIAN
METHOD:PUBLISH
X-WR-TIMEZONE:Europe/Warsaw
BEGIN:VEVENT
UID:event368@Parafia Rzymskokatolicka Najświętszego Serca Jezusowego w Łęcz
 u - Salezjanie
DTSTAMP:20260420T070503Z
CATEGORIES:Msza Święta
DESCRIPTION:Msza święta kolędowa - o Boże Błogosławieństwo dla Mieszkańców 
 Kamionka Wielkiego\nKategoria: Msza Święta\nLink: https://lecze-salezjanie
 .pl/index.php?option=com_jem&view=event&id=368:msza-swieta-koledowa-o-boze
 -blogoslawienstwo-dla-mieszkancow-kamionka-wielkiego\n
DTSTART;TZID=Europe/Warsaw:20220123T120000
DTEND;TZID=Europe/Warsaw:20220123T120000
LOCATION:Świetlica Wiejska w Kamionku Wielkim\,Kamionek Wielki 5B\,Kamionek
  Wielki
SUMMARY:Msza święta kolędowa - o Boże Błogosławieństwo dla Mieszkańców Kami
 onka Wielkiego
URL:https://lecze-salezjanie.pl/index.php?option=com_jem&view=event&id=368:
 msza-swieta-koledowa-o-boze-blogoslawienstwo-dla-mieszkancow-kamionka-wiel
 kiego
END:VEVENT
END:VCALENDAR