BEGIN:VCALENDAR
VERSION:2.0
PRODID:-//193.239.44.119//NONSGML kigkonsult.se iCalcreator 2.20//
CALSCALE:GREGORIAN
METHOD:PUBLISH
X-WR-TIMEZONE:Europe/Warsaw
BEGIN:VEVENT
UID:event370@Parafia Rzymskokatolicka Najświętszego Serca Jezusowego w Łęcz
 u - Salezjanie
DTSTAMP:20260420T065944Z
CATEGORIES:Msza Święta
DESCRIPTION:+ Zygmunt Plumbaum - w 1 miesiąc po śmierci oraz Stanisława Plu
 mbaum\nKategoria: Msza Święta\nLink: https://lecze-salezjanie.pl/index.php
 ?option=com_jem&view=event&id=370:zygmunt-plumbaum-w-1-miesiac-po-smierci-
 oraz-stanislawa-plumbaum\n
DTSTART;TZID=Europe/Warsaw:20220130T090000
DTEND;TZID=Europe/Warsaw:20220130T090000
LOCATION:Kościół Maryi Wspomożycielki Wiernych w Suchaczu\,Kielecka 12B\,Su
 chacz
SUMMARY:+ Zygmunt Plumbaum - w 1 miesiąc po śmierci oraz Stanisława Plumbau
 m
URL:https://lecze-salezjanie.pl/index.php?option=com_jem&view=event&id=370:
 zygmunt-plumbaum-w-1-miesiac-po-smierci-oraz-stanislawa-plumbaum
END:VEVENT
END:VCALENDAR