BEGIN:VCALENDAR
VERSION:2.0
PRODID:-//193.239.44.119//NONSGML kigkonsult.se iCalcreator 2.20//
CALSCALE:GREGORIAN
METHOD:PUBLISH
X-WR-TIMEZONE:Europe/Warsaw
BEGIN:VEVENT
UID:event372@Parafia Rzymskokatolicka Najświętszego Serca Jezusowego w Łęcz
 u - Salezjanie
DTSTAMP:20260420T065545Z
CATEGORIES:Msza Święta
DESCRIPTION:O zdrowie i Boże Błogosławieństwo dla księdza Proboszcza\nKateg
 oria: Msza Święta\nLink: https://lecze-salezjanie.pl/index.php?option=com_
 jem&view=event&id=372:o-zdrowie-i-boze-blogoslawienstwo-dla-ksiedza-probos
 zcza\n
DTSTART;TZID=Europe/Warsaw:20220130T120000
DTEND;TZID=Europe/Warsaw:20220130T120000
LOCATION:Świetlica Wiejska w Kamionku Wielkim\,Kamionek Wielki 5B\,Kamionek
  Wielki
SUMMARY:O zdrowie i Boże Błogosławieństwo dla księdza Proboszcza
URL:https://lecze-salezjanie.pl/index.php?option=com_jem&view=event&id=372:
 o-zdrowie-i-boze-blogoslawienstwo-dla-ksiedza-proboszcza
END:VEVENT
END:VCALENDAR