BEGIN:VCALENDAR
VERSION:2.0
PRODID:-//193.239.44.119//NONSGML kigkonsult.se iCalcreator 2.20//
CALSCALE:GREGORIAN
METHOD:PUBLISH
X-WR-TIMEZONE:Europe/Warsaw
BEGIN:VEVENT
UID:event374@Parafia Rzymskokatolicka Najświętszego Serca Jezusowego w Łęcz
 u - Salezjanie
DTSTAMP:20260420T051746Z
CATEGORIES:Msza Święta
DESCRIPTION:+ Helena Domin - Msza święta Gregoriańska (3)\nKategoria: Msza 
 Święta\nLink: https://lecze-salezjanie.pl/index.php?option=com_jem&view=ev
 ent&id=374:helena-domin-msza-swieta-gregorianska-3\n
DTSTART;TZID=Europe/Warsaw:20220202T170000
DTEND;TZID=Europe/Warsaw:20220202T170000
LOCATION:Kościół Maryi Wspomożycielki Wiernych w Suchaczu\,Kielecka 12B\,Su
 chacz
SUMMARY:+ Helena Domin - Msza święta Gregoriańska (3)
URL:https://lecze-salezjanie.pl/index.php?option=com_jem&view=event&id=374:
 helena-domin-msza-swieta-gregorianska-3
END:VEVENT
END:VCALENDAR