BEGIN:VCALENDAR
VERSION:2.0
PRODID:-//193.239.44.119//NONSGML kigkonsult.se iCalcreator 2.20//
CALSCALE:GREGORIAN
METHOD:PUBLISH
X-WR-TIMEZONE:Europe/Warsaw
BEGIN:VEVENT
UID:event378@Parafia Rzymskokatolicka Najświętszego Serca Jezusowego w Łęcz
 u - Salezjanie
DTSTAMP:20260420T052629Z
CATEGORIES:Msza Święta
DESCRIPTION:+ Renata Jadczuk - w 1 miesiąc po śmierci\nKategoria: Msza Świę
 ta\nLink: https://lecze-salezjanie.pl/index.php?option=com_jem&view=event&
 id=378:renata-jadczuk-w-1-miesiac-po-smierci\n
DTSTART;TZID=Europe/Warsaw:20220206T103000
DTEND;TZID=Europe/Warsaw:20220206T103000
LOCATION:Kościół Maryi Wspomożycielki Wiernych w Suchaczu\,Kielecka 12B\,Su
 chacz
SUMMARY:+ Renata Jadczuk - w 1 miesiąc po śmierci
URL:https://lecze-salezjanie.pl/index.php?option=com_jem&view=event&id=378:
 renata-jadczuk-w-1-miesiac-po-smierci
END:VEVENT
END:VCALENDAR