BEGIN:VCALENDAR
VERSION:2.0
PRODID:-//193.239.44.119//NONSGML kigkonsult.se iCalcreator 2.20//
CALSCALE:GREGORIAN
METHOD:PUBLISH
X-WR-TIMEZONE:Europe/Warsaw
BEGIN:VEVENT
UID:event37@Parafia Rzymskokatolicka Najświętszego Serca Jezusowego w Łęczu
  - Salezjanie
DTSTAMP:20260420T065327Z
CATEGORIES:Msza Święta
DESCRIPTION:+ Zofia Falkowska - w 1 rocznicę śmierci\nKategoria: Msza Święt
 a\nLink: https://lecze-salezjanie.pl/index.php?option=com_jem&view=event&i
 d=37:zofia-falkowska-w-1-rocznice-smierci\n
DTSTART;TZID=Europe/Warsaw:20220115T180000
DTEND;TZID=Europe/Warsaw:20220115T180000
LOCATION:Kościół Najświętszego Serca Jezusowego w Łęczu\,Łęcze 48\,Łęcze
SUMMARY:+ Zofia Falkowska - w 1 rocznicę śmierci
URL:https://lecze-salezjanie.pl/index.php?option=com_jem&view=event&id=37:z
 ofia-falkowska-w-1-rocznice-smierci
END:VEVENT
END:VCALENDAR