BEGIN:VCALENDAR
VERSION:2.0
PRODID:-//193.239.44.119//NONSGML kigkonsult.se iCalcreator 2.20//
CALSCALE:GREGORIAN
METHOD:PUBLISH
X-WR-TIMEZONE:Europe/Warsaw
BEGIN:VEVENT
UID:event383@Parafia Rzymskokatolicka Najświętszego Serca Jezusowego w Łęcz
 u - Salezjanie
DTSTAMP:20260420T052611Z
CATEGORIES:Msza Święta
DESCRIPTION:+ Małgorzata\, Aleksander i Sylwester Sosnowscy\, zmarli z rodz
 iny\nKategoria: Msza Święta\nLink: https://lecze-salezjanie.pl/index.php?o
 ption=com_jem&view=event&id=383:malgorzata-aleksander-i-sylwester-sosnowsc
 y-zmarli-z-rodziny\n
DTSTART;TZID=Europe/Warsaw:20220213T103000
DTEND;TZID=Europe/Warsaw:20220213T103000
LOCATION:Kościół Maryi Wspomożycielki Wiernych w Suchaczu\,Kielecka 12B\,Su
 chacz
SUMMARY:+ Małgorzata\, Aleksander i Sylwester Sosnowscy\, zmarli z rodziny
URL:https://lecze-salezjanie.pl/index.php?option=com_jem&view=event&id=383:
 malgorzata-aleksander-i-sylwester-sosnowscy-zmarli-z-rodziny
END:VEVENT
END:VCALENDAR