BEGIN:VCALENDAR
VERSION:2.0
PRODID:-//193.239.44.119//NONSGML kigkonsult.se iCalcreator 2.20//
CALSCALE:GREGORIAN
METHOD:PUBLISH
X-WR-TIMEZONE:Europe/Warsaw
BEGIN:VEVENT
UID:event384@Parafia Rzymskokatolicka Najświętszego Serca Jezusowego w Łęcz
 u - Salezjanie
DTSTAMP:20260420T051843Z
CATEGORIES:Msza Święta
DESCRIPTION:+ Waldemar Milczarek - zmarły w Anglii\nKategoria: Msza Święta
 \nLink: https://lecze-salezjanie.pl/index.php?option=com_jem&view=event&id
 =384:waldemar-milczarek-zmarly-w-anglii\n
DTSTART;TZID=Europe/Warsaw:20220213T120000
DTEND;TZID=Europe/Warsaw:20220213T120000
LOCATION:Świetlica Wiejska w Kamionku Wielkim\,Kamionek Wielki 5B\,Kamionek
  Wielki
SUMMARY:+ Waldemar Milczarek - zmarły w Anglii
URL:https://lecze-salezjanie.pl/index.php?option=com_jem&view=event&id=384:
 waldemar-milczarek-zmarly-w-anglii
END:VEVENT
END:VCALENDAR