BEGIN:VCALENDAR
VERSION:2.0
PRODID:-//193.239.44.119//NONSGML kigkonsult.se iCalcreator 2.20//
CALSCALE:GREGORIAN
METHOD:PUBLISH
X-WR-TIMEZONE:Europe/Warsaw
BEGIN:VEVENT
UID:event385@Parafia Rzymskokatolicka Najświętszego Serca Jezusowego w Łęcz
 u - Salezjanie
DTSTAMP:20260420T052730Z
CATEGORIES:Msza Święta
DESCRIPTION:O zdrowie\, Boże Błogosławieństwo\, opiekę Matki Bożej dla Zygm
 unta i jego rodziny\nKategoria: Msza Święta\nLink: https://lecze-salezjani
 e.pl/index.php?option=com_jem&view=event&id=385:o-zdrowie-boze-blogoslawie
 nstwo-opieke-matki-bozej-dla-zygmunta-i-jego-rodziny\n
DTSTART;TZID=Europe/Warsaw:20220210T170000
DTEND;TZID=Europe/Warsaw:20220210T170000
LOCATION:Kościół Maryi Wspomożycielki Wiernych w Suchaczu\,Kielecka 12B\,Su
 chacz
SUMMARY:O zdrowie\, Boże Błogosławieństwo\, opiekę Matki Bożej dla Zygmunta
  i jego rodziny
URL:https://lecze-salezjanie.pl/index.php?option=com_jem&view=event&id=385:
 o-zdrowie-boze-blogoslawienstwo-opieke-matki-bozej-dla-zygmunta-i-jego-rod
 ziny
END:VEVENT
END:VCALENDAR