BEGIN:VCALENDAR
VERSION:2.0
PRODID:-//193.239.44.119//NONSGML kigkonsult.se iCalcreator 2.20//
CALSCALE:GREGORIAN
METHOD:PUBLISH
X-WR-TIMEZONE:Europe/Warsaw
BEGIN:VEVENT
UID:event388@Parafia Rzymskokatolicka Najświętszego Serca Jezusowego w Łęcz
 u - Salezjanie
DTSTAMP:20260420T052603Z
CATEGORIES:Msza Święta
DESCRIPTION:+ Franciszek Pięknik - w 10 rocznicę śmierci\, Anna Pięknik - w
  2 rocznicę śmierci\nKategoria: Msza Święta\nLink: https://lecze-salezjani
 e.pl/index.php?option=com_jem&view=event&id=388:franciszek-pieknik-w-10-ro
 cznice-smierci-anna-pieknik-w-2-rocznice-smierci\n
DTSTART;TZID=Europe/Warsaw:20220220T103000
DTEND;TZID=Europe/Warsaw:20220220T103000
LOCATION:Kościół Maryi Wspomożycielki Wiernych w Suchaczu\,Kielecka 12B\,Su
 chacz
SUMMARY:+ Franciszek Pięknik - w 10 rocznicę śmierci\, Anna Pięknik - w 2 r
 ocznicę śmierci
URL:https://lecze-salezjanie.pl/index.php?option=com_jem&view=event&id=388:
 franciszek-pieknik-w-10-rocznice-smierci-anna-pieknik-w-2-rocznice-smierci
END:VEVENT
END:VCALENDAR