BEGIN:VCALENDAR
VERSION:2.0
PRODID:-//193.239.44.119//NONSGML kigkonsult.se iCalcreator 2.20//
CALSCALE:GREGORIAN
METHOD:PUBLISH
X-WR-TIMEZONE:Europe/Warsaw
BEGIN:VEVENT
UID:event390@Parafia Rzymskokatolicka Najświętszego Serca Jezusowego w Łęcz
 u - Salezjanie
DTSTAMP:20260420T051409Z
CATEGORIES:Msza Święta
DESCRIPTION:+ Siostra Janina\nKategoria: Msza Święta\nLink: https://lecze-s
 alezjanie.pl/index.php?option=com_jem&view=event&id=390:siostra-janina\n
DTSTART;TZID=Europe/Warsaw:20220224T170000
DTEND;TZID=Europe/Warsaw:20220224T170000
LOCATION:Kościół Maryi Wspomożycielki Wiernych w Suchaczu\,Kielecka 12B\,Su
 chacz
SUMMARY:+ Siostra Janina
URL:https://lecze-salezjanie.pl/index.php?option=com_jem&view=event&id=390:
 siostra-janina
END:VEVENT
END:VCALENDAR