BEGIN:VCALENDAR
VERSION:2.0
PRODID:-//193.239.44.119//NONSGML kigkonsult.se iCalcreator 2.20//
CALSCALE:GREGORIAN
METHOD:PUBLISH
X-WR-TIMEZONE:Europe/Warsaw
BEGIN:VEVENT
UID:event392@Parafia Rzymskokatolicka Najświętszego Serca Jezusowego w Łęcz
 u - Salezjanie
DTSTAMP:20260420T051405Z
CATEGORIES:Msza Święta
DESCRIPTION:+ Tomasz Zych\nKategoria: Msza Święta\nLink: https://lecze-sale
 zjanie.pl/index.php?option=com_jem&view=event&id=392:tomasz-zych\n
DTSTART;TZID=Europe/Warsaw:20220227T103000
DTEND;TZID=Europe/Warsaw:20220227T103000
LOCATION:Kościół Maryi Wspomożycielki Wiernych w Suchaczu\,Kielecka 12B\,Su
 chacz
SUMMARY:+ Tomasz Zych
URL:https://lecze-salezjanie.pl/index.php?option=com_jem&view=event&id=392:
 tomasz-zych
END:VEVENT
END:VCALENDAR