BEGIN:VCALENDAR
VERSION:2.0
PRODID:-//193.239.44.119//NONSGML kigkonsult.se iCalcreator 2.20//
CALSCALE:GREGORIAN
METHOD:PUBLISH
X-WR-TIMEZONE:Europe/Warsaw
BEGIN:VEVENT
UID:event396@Parafia Rzymskokatolicka Najświętszego Serca Jezusowego w Łęcz
 u - Salezjanie
DTSTAMP:20260420T034635Z
CATEGORIES:Msza Święta
DESCRIPTION:Dziękczynna\, o dalsze Błogosławieństwo dla całej rodziny\nKate
 goria: Msza Święta\nLink: https://lecze-salezjanie.pl/index.php?option=com
 _jem&view=event&id=396:dziekczynna-o-dalsze-blogoslawienstwo-dla-calej-rod
 ziny\n
DTSTART;TZID=Europe/Warsaw:20220303T170000
DTEND;TZID=Europe/Warsaw:20220303T170000
LOCATION:Kościół Maryi Wspomożycielki Wiernych w Suchaczu\,Kielecka 12B\,Su
 chacz
SUMMARY:Dziękczynna\, o dalsze Błogosławieństwo dla całej rodziny
URL:https://lecze-salezjanie.pl/index.php?option=com_jem&view=event&id=396:
 dziekczynna-o-dalsze-blogoslawienstwo-dla-calej-rodziny
END:VEVENT
END:VCALENDAR