BEGIN:VCALENDAR
VERSION:2.0
PRODID:-//193.239.44.119//NONSGML kigkonsult.se iCalcreator 2.20//
CALSCALE:GREGORIAN
METHOD:PUBLISH
X-WR-TIMEZONE:Europe/Warsaw
BEGIN:VEVENT
UID:event398@Parafia Rzymskokatolicka Najświętszego Serca Jezusowego w Łęcz
 u - Salezjanie
DTSTAMP:20260420T034037Z
CATEGORIES:Nabożeństwo
DESCRIPTION:Gorzkie Żale\nKategoria: Nabożeństwo\nLink: https://lecze-salez
 janie.pl/index.php?option=com_jem&view=event&id=398:gorzkie-zale-1\n
DTSTART;TZID=Europe/Warsaw:20220306T094500
DTEND;TZID=Europe/Warsaw:20220306T094500
LOCATION:Kościół Maryi Wspomożycielki Wiernych w Suchaczu\,Kielecka 12B\,Su
 chacz
SUMMARY:Gorzkie Żale
URL:https://lecze-salezjanie.pl/index.php?option=com_jem&view=event&id=398:
 gorzkie-zale-1
END:VEVENT
END:VCALENDAR