BEGIN:VCALENDAR
VERSION:2.0
PRODID:-//193.239.44.119//NONSGML kigkonsult.se iCalcreator 2.20//
CALSCALE:GREGORIAN
METHOD:PUBLISH
X-WR-TIMEZONE:Europe/Warsaw
BEGIN:VEVENT
UID:event399@Parafia Rzymskokatolicka Najświętszego Serca Jezusowego w Łęcz
 u - Salezjanie
DTSTAMP:20260420T034708Z
CATEGORIES:Msza Święta
DESCRIPTION:+ Jan Sylwestrzak - w 3 rocznicę śmierci\, Helena Sylwestrzak\,
  Andrzej\, Jadwiga i Alicja z domu Przybylscy i Roman Giedrys\nKategoria: 
 Msza Święta\nLink: https://lecze-salezjanie.pl/index.php?option=com_jem&vi
 ew=event&id=399:jan-sylwestrzak-w-3-rocznice-smierci-helena-sylwestrzak-an
 drzej-jadwiga-i-alicja-z-domu-przybylscy-i-roman-giedrys\n
DTSTART;TZID=Europe/Warsaw:20220306T103000
DTEND;TZID=Europe/Warsaw:20220306T103000
LOCATION:Kościół Maryi Wspomożycielki Wiernych w Suchaczu\,Kielecka 12B\,Su
 chacz
SUMMARY:+ Jan Sylwestrzak - w 3 rocznicę śmierci\, Helena Sylwestrzak\, And
 rzej\, Jadwiga i Alicja z domu Przybylscy i Roman Giedrys
URL:https://lecze-salezjanie.pl/index.php?option=com_jem&view=event&id=399:
 jan-sylwestrzak-w-3-rocznice-smierci-helena-sylwestrzak-andrzej-jadwiga-i-
 alicja-z-domu-przybylscy-i-roman-giedrys
END:VEVENT
END:VCALENDAR