BEGIN:VCALENDAR
VERSION:2.0
PRODID:-//193.239.44.119//NONSGML kigkonsult.se iCalcreator 2.20//
CALSCALE:GREGORIAN
METHOD:PUBLISH
X-WR-TIMEZONE:Europe/Warsaw
BEGIN:VEVENT
UID:event403@Parafia Rzymskokatolicka Najświętszego Serca Jezusowego w Łęcz
 u - Salezjanie
DTSTAMP:20260420T034117Z
CATEGORIES:Pogrzeb
DESCRIPTION:+ Alicja Janina Przybylska\nKategoria: Pogrzeb\nLink: https://l
 ecze-salezjanie.pl/index.php?option=com_jem&view=event&id=403:alicja-janin
 a-przybylska\n
DTSTART;TZID=Europe/Warsaw:20220308T120000
DTEND;TZID=Europe/Warsaw:20220308T120000
LOCATION:Kościół Maryi Wspomożycielki Wiernych w Suchaczu\,Kielecka 12B\,Su
 chacz
SUMMARY:+ Alicja Janina Przybylska
URL:https://lecze-salezjanie.pl/index.php?option=com_jem&view=event&id=403:
 alicja-janina-przybylska
END:VEVENT
END:VCALENDAR