BEGIN:VCALENDAR
VERSION:2.0
PRODID:-//193.239.44.119//NONSGML kigkonsult.se iCalcreator 2.20//
CALSCALE:GREGORIAN
METHOD:PUBLISH
X-WR-TIMEZONE:Europe/Warsaw
BEGIN:VEVENT
UID:event404@Parafia Rzymskokatolicka Najświętszego Serca Jezusowego w Łęcz
 u - Salezjanie
DTSTAMP:20260420T034610Z
CATEGORIES:Msza Święta
DESCRIPTION:Dziękczynna\, z prośbą o dary Bożej Miłości\, zdrowie i nieusta
 nną opiekę Matki Bożej dla Lenki Andrukiewicz z okazji 11 urodzin\nKategor
 ia: Msza Święta\nLink: https://lecze-salezjanie.pl/index.php?option=com_je
 m&view=event&id=404:dziekczynna-z-prosba-o-dary-bozej-milosci-zdrowie-i-ni
 eustanna-opieke-matki-bozej-dla-lenki-andrukiewicz-z-okazji-11-urodzin\n
DTSTART;TZID=Europe/Warsaw:20220308T170000
DTEND;TZID=Europe/Warsaw:20220308T170000
LOCATION:Kościół Maryi Wspomożycielki Wiernych w Suchaczu\,Kielecka 12B\,Su
 chacz
SUMMARY:Dziękczynna\, z prośbą o dary Bożej Miłości\, zdrowie i nieustanną 
 opiekę Matki Bożej dla Lenki Andrukiewicz z okazji 11 urodzin
URL:https://lecze-salezjanie.pl/index.php?option=com_jem&view=event&id=404:
 dziekczynna-z-prosba-o-dary-bozej-milosci-zdrowie-i-nieustanna-opieke-matk
 i-bozej-dla-lenki-andrukiewicz-z-okazji-11-urodzin
END:VEVENT
END:VCALENDAR