BEGIN:VCALENDAR
VERSION:2.0
PRODID:-//193.239.44.119//NONSGML kigkonsult.se iCalcreator 2.20//
CALSCALE:GREGORIAN
METHOD:PUBLISH
X-WR-TIMEZONE:Europe/Warsaw
BEGIN:VEVENT
UID:event405@Parafia Rzymskokatolicka Najświętszego Serca Jezusowego w Łęcz
 u - Salezjanie
DTSTAMP:20260420T034548Z
CATEGORIES:Msza Święta
DESCRIPTION:O dary Bożej Miłości\, zdrowie\, opiekę Matki Bożej dla Elżbiet
 y\nKategoria: Msza Święta\nLink: https://lecze-salezjanie.pl/index.php?opt
 ion=com_jem&view=event&id=405:o-dary-bozej-milosci-zdrowie-opieke-matki-bo
 zej-dla-elzbiety\n
DTSTART;TZID=Europe/Warsaw:20220310T170000
DTEND;TZID=Europe/Warsaw:20220310T170000
LOCATION:Kościół Maryi Wspomożycielki Wiernych w Suchaczu\,Kielecka 12B\,Su
 chacz
SUMMARY:O dary Bożej Miłości\, zdrowie\, opiekę Matki Bożej dla Elżbiety
URL:https://lecze-salezjanie.pl/index.php?option=com_jem&view=event&id=405:
 o-dary-bozej-milosci-zdrowie-opieke-matki-bozej-dla-elzbiety
END:VEVENT
END:VCALENDAR