BEGIN:VCALENDAR
VERSION:2.0
PRODID:-//193.239.44.119//NONSGML kigkonsult.se iCalcreator 2.20//
CALSCALE:GREGORIAN
METHOD:PUBLISH
X-WR-TIMEZONE:Europe/Warsaw
BEGIN:VEVENT
UID:event406@Parafia Rzymskokatolicka Najświętszego Serca Jezusowego w Łęcz
 u - Salezjanie
DTSTAMP:20260420T034610Z
CATEGORIES:Msza Święta
DESCRIPTION:O Boże Błogosławieństwo i potrzebne łaski dla Krystyny z okazji
  imienin i całej rodziny\nKategoria: Msza Święta\nLink: https://lecze-sale
 zjanie.pl/index.php?option=com_jem&view=event&id=406:o-boze-blogoslawienst
 wo-i-potrzebne-laski-dla-krystyny-z-okazji-imienin-i-calej-rodziny\n
DTSTART;TZID=Europe/Warsaw:20220313T090000
DTEND;TZID=Europe/Warsaw:20220313T090000
LOCATION:Kościół Maryi Wspomożycielki Wiernych w Suchaczu\,Kielecka 12B\,Su
 chacz
SUMMARY:O Boże Błogosławieństwo i potrzebne łaski dla Krystyny z okazji imi
 enin i całej rodziny
URL:https://lecze-salezjanie.pl/index.php?option=com_jem&view=event&id=406:
 o-boze-blogoslawienstwo-i-potrzebne-laski-dla-krystyny-z-okazji-imienin-i-
 calej-rodziny
END:VEVENT
END:VCALENDAR