BEGIN:VCALENDAR
VERSION:2.0
PRODID:-//193.239.44.119//NONSGML kigkonsult.se iCalcreator 2.20//
CALSCALE:GREGORIAN
METHOD:PUBLISH
X-WR-TIMEZONE:Europe/Warsaw
BEGIN:VEVENT
UID:event407@Parafia Rzymskokatolicka Najświętszego Serca Jezusowego w Łęcz
 u - Salezjanie
DTSTAMP:20260420T034635Z
CATEGORIES:Msza Święta
DESCRIPTION:+ Wacław Pluta - w 5 rocznicę śmierci i za zmarłych z rodziny P
 lutów\nKategoria: Msza Święta\nLink: https://lecze-salezjanie.pl/index.php
 ?option=com_jem&view=event&id=407:waclaw-pluta-w-5-rocznice-smierci-i-za-z
 marlych-z-rodziny-plutow\n
DTSTART;TZID=Europe/Warsaw:20220313T103000
DTEND;TZID=Europe/Warsaw:20220313T103000
LOCATION:Kościół Maryi Wspomożycielki Wiernych w Suchaczu\,Kielecka 12B\,Su
 chacz
SUMMARY:+ Wacław Pluta - w 5 rocznicę śmierci i za zmarłych z rodziny Plutó
 w
URL:https://lecze-salezjanie.pl/index.php?option=com_jem&view=event&id=407:
 waclaw-pluta-w-5-rocznice-smierci-i-za-zmarlych-z-rodziny-plutow
END:VEVENT
END:VCALENDAR