BEGIN:VCALENDAR
VERSION:2.0
PRODID:-//193.239.44.119//NONSGML kigkonsult.se iCalcreator 2.20//
CALSCALE:GREGORIAN
METHOD:PUBLISH
X-WR-TIMEZONE:Europe/Warsaw
BEGIN:VEVENT
UID:event40@Parafia Rzymskokatolicka Najświętszego Serca Jezusowego w Łęczu
  - Salezjanie
DTSTAMP:20260420T070525Z
CATEGORIES:Msza Święta
DESCRIPTION:O zdrowie\, Boże Błogosławieństwo\, opiekę Matki Bożej Wspomoży
 cielki Wiernych dla księdza Mariusza z okazji imienin\nKategoria: Msza Świ
 ęta\nLink: https://lecze-salezjanie.pl/index.php?option=com_jem&view=event
 &id=40:o-zdrowie-boze-blogoslawienstwo-opieke-matki-bozej-wspomozycielki-w
 iernych-dla-ksiedza-mariusza-z-okazji-imienin\n
DTSTART;TZID=Europe/Warsaw:20220116T120000
DTEND;TZID=Europe/Warsaw:20220116T120000
LOCATION:Kościół Najświętszego Serca Jezusowego w Łęczu\,Łęcze 48\,Łęcze
SUMMARY:O zdrowie\, Boże Błogosławieństwo\, opiekę Matki Bożej Wspomożyciel
 ki Wiernych dla księdza Mariusza z okazji imienin
URL:https://lecze-salezjanie.pl/index.php?option=com_jem&view=event&id=40:o
 -zdrowie-boze-blogoslawienstwo-opieke-matki-bozej-wspomozycielki-wiernych-
 dla-ksiedza-mariusza-z-okazji-imienin
END:VEVENT
END:VCALENDAR