BEGIN:VCALENDAR
VERSION:2.0
PRODID:-//193.239.44.119//NONSGML kigkonsult.se iCalcreator 2.20//
CALSCALE:GREGORIAN
METHOD:PUBLISH
X-WR-TIMEZONE:Europe/Warsaw
BEGIN:VEVENT
UID:event410@Parafia Rzymskokatolicka Najświętszego Serca Jezusowego w Łęcz
 u - Salezjanie
DTSTAMP:20260422T090529Z
CATEGORIES:Msza Święta
DESCRIPTION:Za rodzinę Maciuńskich\, Rymszów i Januszko\nKategoria: Msza Św
 ięta\nLink: https://lecze-salezjanie.pl/index.php?option=com_jem&view=even
 t&id=410:za-rodzine-maciunskich-rymszow-i-januszko\n
DTSTART;TZID=Europe/Warsaw:20220318T170000
DTEND;TZID=Europe/Warsaw:20220318T170000
LOCATION:Kościół Maryi Wspomożycielki Wiernych w Suchaczu\,Kielecka 12B\,Su
 chacz
SUMMARY:Za rodzinę Maciuńskich\, Rymszów i Januszko
URL:https://lecze-salezjanie.pl/index.php?option=com_jem&view=event&id=410:
 za-rodzine-maciunskich-rymszow-i-januszko
END:VEVENT
END:VCALENDAR