BEGIN:VCALENDAR
VERSION:2.0
PRODID:-//193.239.44.119//NONSGML kigkonsult.se iCalcreator 2.20//
CALSCALE:GREGORIAN
METHOD:PUBLISH
X-WR-TIMEZONE:Europe/Warsaw
BEGIN:VEVENT
UID:event411@Parafia Rzymskokatolicka Najświętszego Serca Jezusowego w Łęcz
 u - Salezjanie
DTSTAMP:20260420T034158Z
CATEGORIES:Msza Święta
DESCRIPTION:+ Aleksandra Budzyńska - Msza święta Gregoriańska (20)\nKategor
 ia: Msza Święta\nLink: https://lecze-salezjanie.pl/index.php?option=com_je
 m&view=event&id=411:aleksandra-budzynska-msza-swieta-gregorianska-20\n
DTSTART;TZID=Europe/Warsaw:20220320T090000
DTEND;TZID=Europe/Warsaw:20220320T090000
LOCATION:Kościół Maryi Wspomożycielki Wiernych w Suchaczu\,Kielecka 12B\,Su
 chacz
SUMMARY:+ Aleksandra Budzyńska - Msza święta Gregoriańska (20)
URL:https://lecze-salezjanie.pl/index.php?option=com_jem&view=event&id=411:
 aleksandra-budzynska-msza-swieta-gregorianska-20
END:VEVENT
END:VCALENDAR