BEGIN:VCALENDAR
VERSION:2.0
PRODID:-//193.239.44.119//NONSGML kigkonsult.se iCalcreator 2.20//
CALSCALE:GREGORIAN
METHOD:PUBLISH
X-WR-TIMEZONE:Europe/Warsaw
BEGIN:VEVENT
UID:event412@Parafia Rzymskokatolicka Najświętszego Serca Jezusowego w Łęcz
 u - Salezjanie
DTSTAMP:20260420T034415Z
CATEGORIES:Msza Święta
DESCRIPTION:+ Stanisława i Antoni Pietera\, Sławomir Grzemiński\nKategoria:
  Msza Święta\nLink: https://lecze-salezjanie.pl/index.php?option=com_jem&v
 iew=event&id=412:stanislawa-i-antoni-pietera-slawomir-grzeminski\n
DTSTART;TZID=Europe/Warsaw:20220320T103000
DTEND;TZID=Europe/Warsaw:20220320T103000
LOCATION:Kościół Maryi Wspomożycielki Wiernych w Suchaczu\,Kielecka 12B\,Su
 chacz
SUMMARY:+ Stanisława i Antoni Pietera\, Sławomir Grzemiński
URL:https://lecze-salezjanie.pl/index.php?option=com_jem&view=event&id=412:
 stanislawa-i-antoni-pietera-slawomir-grzeminski
END:VEVENT
END:VCALENDAR