BEGIN:VCALENDAR
VERSION:2.0
PRODID:-//193.239.44.119//NONSGML kigkonsult.se iCalcreator 2.20//
CALSCALE:GREGORIAN
METHOD:PUBLISH
X-WR-TIMEZONE:Europe/Warsaw
BEGIN:VEVENT
UID:event413@Parafia Rzymskokatolicka Najświętszego Serca Jezusowego w Łęcz
 u - Salezjanie
DTSTAMP:20260420T034320Z
CATEGORIES:Msza Święta
DESCRIPTION:+ Irena Buławska - z ofiar pogrzebu\nKategoria: Msza Święta\nLi
 nk: https://lecze-salezjanie.pl/index.php?option=com_jem&view=event&id=413
 :irena-bulawska-z-ofiar-pogrzebu\n
DTSTART;TZID=Europe/Warsaw:20220322T170000
DTEND;TZID=Europe/Warsaw:20220322T170000
LOCATION:Kościół Maryi Wspomożycielki Wiernych w Suchaczu\,Kielecka 12B\,Su
 chacz
SUMMARY:+ Irena Buławska - z ofiar pogrzebu
URL:https://lecze-salezjanie.pl/index.php?option=com_jem&view=event&id=413:
 irena-bulawska-z-ofiar-pogrzebu
END:VEVENT
END:VCALENDAR