BEGIN:VCALENDAR
VERSION:2.0
PRODID:-//193.239.44.119//NONSGML kigkonsult.se iCalcreator 2.20//
CALSCALE:GREGORIAN
METHOD:PUBLISH
X-WR-TIMEZONE:Europe/Warsaw
BEGIN:VEVENT
UID:event417@Parafia Rzymskokatolicka Najświętszego Serca Jezusowego w Łęcz
 u - Salezjanie
DTSTAMP:20260422T090540Z
CATEGORIES:Msza Święta
DESCRIPTION:Dziękczynno-błagalna w 58 rocznicę ślubu Marii i Włodzimierza\n
 Kategoria: Msza Święta\nLink: https://lecze-salezjanie.pl/index.php?option
 =com_jem&view=event&id=417:dziekczynno-blagalna-w-58-rocznice-slubu-marii-
 i-wlodzimierza\n
DTSTART;TZID=Europe/Warsaw:20220327T103000
DTEND;TZID=Europe/Warsaw:20220327T103000
LOCATION:Kościół Maryi Wspomożycielki Wiernych w Suchaczu\,Kielecka 12B\,Su
 chacz
SUMMARY:Dziękczynno-błagalna w 58 rocznicę ślubu Marii i Włodzimierza
URL:https://lecze-salezjanie.pl/index.php?option=com_jem&view=event&id=417:
 dziekczynno-blagalna-w-58-rocznice-slubu-marii-i-wlodzimierza
END:VEVENT
END:VCALENDAR