BEGIN:VCALENDAR
VERSION:2.0
PRODID:-//193.239.44.119//NONSGML kigkonsult.se iCalcreator 2.20//
CALSCALE:GREGORIAN
METHOD:PUBLISH
X-WR-TIMEZONE:Europe/Warsaw
BEGIN:VEVENT
UID:event418@Parafia Rzymskokatolicka Najświętszego Serca Jezusowego w Łęcz
 u - Salezjanie
DTSTAMP:20260420T034610Z
CATEGORIES:Msza Święta
DESCRIPTION:O szczęśliwe rozwiązanie\, zdrowie i opiekę Matki Bożej dla Kat
 arzyny i jej dziecka\nKategoria: Msza Święta\nLink: https://lecze-salezjan
 ie.pl/index.php?option=com_jem&view=event&id=418:o-szczesliwe-rozwiazanie-
 zdrowie-i-opieke-matki-bozej-dla-katarzyny-i-jej-dziecka\n
DTSTART;TZID=Europe/Warsaw:20220331T160000
DTEND;TZID=Europe/Warsaw:20220331T160000
LOCATION:Świetlica Wiejska w Kamionku Wielkim\,Kamionek Wielki 5B\,Kamionek
  Wielki
SUMMARY:O szczęśliwe rozwiązanie\, zdrowie i opiekę Matki Bożej dla Katarzy
 ny i jej dziecka
URL:https://lecze-salezjanie.pl/index.php?option=com_jem&view=event&id=418:
 o-szczesliwe-rozwiazanie-zdrowie-i-opieke-matki-bozej-dla-katarzyny-i-jej-
 dziecka
END:VEVENT
END:VCALENDAR