BEGIN:VCALENDAR
VERSION:2.0
PRODID:-//193.239.44.119//NONSGML kigkonsult.se iCalcreator 2.20//
CALSCALE:GREGORIAN
METHOD:PUBLISH
X-WR-TIMEZONE:Europe/Warsaw
BEGIN:VEVENT
UID:event41@Parafia Rzymskokatolicka Najświętszego Serca Jezusowego w Łęczu
  - Salezjanie
DTSTAMP:20260420T065611Z
CATEGORIES:Msza Święta
DESCRIPTION:O Boże Błogosławieństwo\, dary Ducha Świętego w pisaniu pracy i
 nżynierskiej dla Karola\nKategoria: Msza Święta\nLink: https://lecze-salez
 janie.pl/index.php?option=com_jem&view=event&id=41:o-boze-blogoslawienstwo
 -dary-ducha-swietego-w-pisaniu-pracy-inzynierskiej-dla-karola\n
DTSTART;TZID=Europe/Warsaw:20220117T180000
DTEND;TZID=Europe/Warsaw:20220117T180000
LOCATION:Kościół Najświętszego Serca Jezusowego w Łęczu\,Łęcze 48\,Łęcze
SUMMARY:O Boże Błogosławieństwo\, dary Ducha Świętego w pisaniu pracy inżyn
 ierskiej dla Karola
URL:https://lecze-salezjanie.pl/index.php?option=com_jem&view=event&id=41:o
 -boze-blogoslawienstwo-dary-ducha-swietego-w-pisaniu-pracy-inzynierskiej-d
 la-karola
END:VEVENT
END:VCALENDAR