BEGIN:VCALENDAR
VERSION:2.0
PRODID:-//193.239.44.119//NONSGML kigkonsult.se iCalcreator 2.20//
CALSCALE:GREGORIAN
METHOD:PUBLISH
X-WR-TIMEZONE:Europe/Warsaw
BEGIN:VEVENT
UID:event420@Parafia Rzymskokatolicka Najświętszego Serca Jezusowego w Łęcz
 u - Salezjanie
DTSTAMP:20260420T034509Z
CATEGORIES:Msza Święta
DESCRIPTION:+ Janina\, Henryka\, Czesław\, Sylwester Gorzkowscy\nKategoria:
  Msza Święta\nLink: https://lecze-salezjanie.pl/index.php?option=com_jem&v
 iew=event&id=420:janina-henryka-czeslaw-sylwester-gorzkowscy\n
DTSTART;TZID=Europe/Warsaw:20220410T120000
DTEND;TZID=Europe/Warsaw:20220410T120000
LOCATION:Świetlica Wiejska w Kamionku Wielkim\,Kamionek Wielki 5B\,Kamionek
  Wielki
SUMMARY:+ Janina\, Henryka\, Czesław\, Sylwester Gorzkowscy
URL:https://lecze-salezjanie.pl/index.php?option=com_jem&view=event&id=420:
 janina-henryka-czeslaw-sylwester-gorzkowscy
END:VEVENT
END:VCALENDAR