BEGIN:VCALENDAR
VERSION:2.0
PRODID:-//193.239.44.119//NONSGML kigkonsult.se iCalcreator 2.20//
CALSCALE:GREGORIAN
METHOD:PUBLISH
X-WR-TIMEZONE:Europe/Warsaw
BEGIN:VEVENT
UID:event425@Parafia Rzymskokatolicka Najświętszego Serca Jezusowego w Łęcz
 u - Salezjanie
DTSTAMP:20260420T014932Z
CATEGORIES:Msza Święta
DESCRIPTION:O łaskę zdrowia dla Ani\nKategoria: Msza Święta\nLink: https://
 lecze-salezjanie.pl/index.php?option=com_jem&view=event&id=425:o-laske-zdr
 owia-dla-ani\n
DTSTART;TZID=Europe/Warsaw:20220403T103000
DTEND;TZID=Europe/Warsaw:20220403T103000
LOCATION:Kościół Maryi Wspomożycielki Wiernych w Suchaczu\,Kielecka 12B\,Su
 chacz
SUMMARY:O łaskę zdrowia dla Ani
URL:https://lecze-salezjanie.pl/index.php?option=com_jem&view=event&id=425:
 o-laske-zdrowia-dla-ani
END:VEVENT
END:VCALENDAR