BEGIN:VCALENDAR
VERSION:2.0
PRODID:-//193.239.44.119//NONSGML kigkonsult.se iCalcreator 2.20//
CALSCALE:GREGORIAN
METHOD:PUBLISH
X-WR-TIMEZONE:Europe/Warsaw
BEGIN:VEVENT
UID:event431@Parafia Rzymskokatolicka Najświętszego Serca Jezusowego w Łęcz
 u - Salezjanie
DTSTAMP:20260420T034853Z
CATEGORIES:Msza Święta
DESCRIPTION:+ Wanda Fabisiak - w 2 rocznicę śmierci i wszystkich zmarłych z
  rodziny\nKategoria: Msza Święta\nLink: https://lecze-salezjanie.pl/index.
 php?option=com_jem&view=event&id=431:wanda-fabisiak-w-2-rocznice-smierci-i
 -wszystkich-zmarlych-z-rodziny\n
DTSTART;TZID=Europe/Warsaw:20220410T103000
DTEND;TZID=Europe/Warsaw:20220410T103000
LOCATION:Kościół Maryi Wspomożycielki Wiernych w Suchaczu\,Kielecka 12B\,Su
 chacz
SUMMARY:+ Wanda Fabisiak - w 2 rocznicę śmierci i wszystkich zmarłych z rod
 ziny
URL:https://lecze-salezjanie.pl/index.php?option=com_jem&view=event&id=431:
 wanda-fabisiak-w-2-rocznice-smierci-i-wszystkich-zmarlych-z-rodziny
END:VEVENT
END:VCALENDAR