BEGIN:VCALENDAR
VERSION:2.0
PRODID:-//193.239.44.119//NONSGML kigkonsult.se iCalcreator 2.20//
CALSCALE:GREGORIAN
METHOD:PUBLISH
X-WR-TIMEZONE:Europe/Warsaw
BEGIN:VEVENT
UID:event432@Parafia Rzymskokatolicka Najświętszego Serca Jezusowego w Łęcz
 u - Salezjanie
DTSTAMP:20260422T090559Z
CATEGORIES:Msza Święta
DESCRIPTION:+ Stanisława Bucholc i zmarli z rodziny Pięknik i Stokłosińskic
 h\nKategoria: Msza Święta\nLink: https://lecze-salezjanie.pl/index.php?opt
 ion=com_jem&view=event&id=432:stanislawa-bucholc-i-zmarli-z-rodziny-piekni
 k-i-stoklosinskich\n
DTSTART;TZID=Europe/Warsaw:20220412T170000
DTEND;TZID=Europe/Warsaw:20220412T170000
LOCATION:Kościół Maryi Wspomożycielki Wiernych w Suchaczu\,Kielecka 12B\,Su
 chacz
SUMMARY:+ Stanisława Bucholc i zmarli z rodziny Pięknik i Stokłosińskich
URL:https://lecze-salezjanie.pl/index.php?option=com_jem&view=event&id=432:
 stanislawa-bucholc-i-zmarli-z-rodziny-pieknik-i-stoklosinskich
END:VEVENT
END:VCALENDAR