BEGIN:VCALENDAR
VERSION:2.0
PRODID:-//193.239.44.119//NONSGML kigkonsult.se iCalcreator 2.20//
CALSCALE:GREGORIAN
METHOD:PUBLISH
X-WR-TIMEZONE:Europe/Warsaw
BEGIN:VEVENT
UID:event433@Parafia Rzymskokatolicka Najświętszego Serca Jezusowego w Łęcz
 u - Salezjanie
DTSTAMP:20260420T020613Z
CATEGORIES:Msza Święta
DESCRIPTION:Liturgia Wielkiego Czwartku - intencja własna kapłana\nKategori
 a: Msza Święta\nLink: https://lecze-salezjanie.pl/index.php?option=com_jem
 &view=event&id=433:liturgia-wielkiego-czwartku-intencja-wlasna-kaplana\n
DTSTART;TZID=Europe/Warsaw:20220414T170000
DTEND;TZID=Europe/Warsaw:20220414T170000
LOCATION:Kościół Maryi Wspomożycielki Wiernych w Suchaczu\,Kielecka 12B\,Su
 chacz
SUMMARY:Liturgia Wielkiego Czwartku - intencja własna kapłana
URL:https://lecze-salezjanie.pl/index.php?option=com_jem&view=event&id=433:
 liturgia-wielkiego-czwartku-intencja-wlasna-kaplana
END:VEVENT
END:VCALENDAR